BEGIN:VCALENDAR
VERSION:2.0
PRODID:-//Acadis - ECPv6.15.20//NONSGML v1.0//EN
CALSCALE:GREGORIAN
METHOD:PUBLISH
X-ORIGINAL-URL:https://www.acadis.com
X-WR-CALDESC:Events for Acadis
REFRESH-INTERVAL;VALUE=DURATION:PT1H
X-Robots-Tag:noindex
X-PUBLISHED-TTL:PT1H
BEGIN:VTIMEZONE
TZID:America/New_York
BEGIN:DAYLIGHT
TZOFFSETFROM:-0500
TZOFFSETTO:-0400
TZNAME:EDT
DTSTART:20200308T070000
END:DAYLIGHT
BEGIN:STANDARD
TZOFFSETFROM:-0400
TZOFFSETTO:-0500
TZNAME:EST
DTSTART:20201101T060000
END:STANDARD
BEGIN:DAYLIGHT
TZOFFSETFROM:-0500
TZOFFSETTO:-0400
TZNAME:EDT
DTSTART:20210314T070000
END:DAYLIGHT
BEGIN:STANDARD
TZOFFSETFROM:-0400
TZOFFSETTO:-0500
TZNAME:EST
DTSTART:20211107T060000
END:STANDARD
BEGIN:DAYLIGHT
TZOFFSETFROM:-0500
TZOFFSETTO:-0400
TZNAME:EDT
DTSTART:20220313T070000
END:DAYLIGHT
BEGIN:STANDARD
TZOFFSETFROM:-0400
TZOFFSETTO:-0500
TZNAME:EST
DTSTART:20221106T060000
END:STANDARD
BEGIN:DAYLIGHT
TZOFFSETFROM:-0500
TZOFFSETTO:-0400
TZNAME:EDT
DTSTART:20230312T070000
END:DAYLIGHT
BEGIN:STANDARD
TZOFFSETFROM:-0400
TZOFFSETTO:-0500
TZNAME:EST
DTSTART:20231105T060000
END:STANDARD
END:VTIMEZONE
BEGIN:VTIMEZONE
TZID:UTC
BEGIN:STANDARD
TZOFFSETFROM:+0000
TZOFFSETTO:+0000
TZNAME:UTC
DTSTART:20200101T000000
END:STANDARD
END:VTIMEZONE
BEGIN:VEVENT
DTSTART;VALUE=DATE:20220425
DTEND;VALUE=DATE:20220501
DTSTAMP:20260426T000221
CREATED:20210901T213440Z
LAST-MODIFIED:20211214T185706Z
UID:1402-1650844800-1651363199@www.acadis.com
SUMMARY:FDIC (Fire Department Instructors Conference)
DESCRIPTION:FDIC International offers 35\,000+ Fire & Rescue professionals from 65+ countries around the world\, quality world-class instructors\, classrooms\, workshops\, H.O.T. evolutions\, and more. We hope to see you there!\n==> Learn More
URL:https://www.acadis.com/event/fdic-fire-department-instructors-conference/
LOCATION:Indiana Convention Center & Lucas Oil Stadium\, Indianapolis\, IN\, United States
CATEGORIES:Conference
END:VEVENT
BEGIN:VEVENT
DTSTART;VALUE=DATE:20211117
DTEND;VALUE=DATE:20211121
DTSTAMP:20260426T000221
CREATED:20210929T201139Z
LAST-MODIFIED:20211214T185413Z
UID:2066-1637107200-1637452799@www.acadis.com
SUMMARY:Fall CALEA Conference
DESCRIPTION:Offering workshops for CEOs\, mid-level command staff\, and accreditation managers\, this conference in Jacksonville\, Florida\, will help you address contemporary issues and provide management solutions. Hope to see you there. \n==> Learn More
URL:https://www.acadis.com/event/fall-calea-conference/
CATEGORIES:Conference
END:VEVENT
BEGIN:VEVENT
DTSTART;VALUE=DATE:20211114
DTEND;VALUE=DATE:20211117
DTSTAMP:20260426T000221
CREATED:20210929T201055Z
LAST-MODIFIED:20211214T185447Z
UID:2065-1636848000-1637107199@www.acadis.com
SUMMARY:2021 Chiefs In-Service and Annual Conference
DESCRIPTION:The Ohio Association of Chiefs of Police (OACP) Annual Conference in Columbus\, Ohio\, will feature a banquet\, chiefs’ reception\, business meeting\, many networking opportunities\, and an exhibit show where we hope to meet you. \n==> Learn More
URL:https://www.acadis.com/event/2021-chiefs-in-service-and-annual-conference/
CATEGORIES:Conference
END:VEVENT
BEGIN:VEVENT
DTSTART;VALUE=DATE:20211111
DTEND;VALUE=DATE:20211115
DTSTAMP:20260426T000221
CREATED:20210929T200327Z
LAST-MODIFIED:20211214T185507Z
UID:2064-1636588800-1636934399@www.acadis.com
SUMMARY:IAFC Symposium in the Sun
DESCRIPTION:Join us in Clearwater\, Florida\, for fire chief leadership training and networking that will allow you to discover ideas and solutions from departments all over the country. \n==> Learn More
URL:https://www.acadis.com/event/iafc-symposium-in-the-sun/
CATEGORIES:Conference
END:VEVENT
BEGIN:VEVENT
DTSTART;VALUE=DATE:20211024
DTEND;VALUE=DATE:20211028
DTSTAMP:20260426T000221
CREATED:20210929T200246Z
LAST-MODIFIED:20211214T185521Z
UID:2063-1635033600-1635379199@www.acadis.com
SUMMARY:2021 Atlantic Chapter of APCO Fall Conference
DESCRIPTION:Join us in Stowe\, Vermont\, for an immersive 3-day experience in emergency communications. \n==> Learn More
URL:https://www.acadis.com/event/2021-atlantic-chapter-of-apco-fall-conference/
CATEGORIES:Conference
END:VEVENT
BEGIN:VEVENT
DTSTART;VALUE=DATE:20211021
DTEND;VALUE=DATE:20211024
DTSTAMP:20260426T000221
CREATED:20210929T200124Z
LAST-MODIFIED:20211214T185536Z
UID:2062-1634774400-1635033599@www.acadis.com
SUMMARY:IFSAC 2021 Fall Meeting
DESCRIPTION:The International Fire Service Accreditation Congress with gather in Tulsa\, Oklahoma\, for its fall meeting. We hope to see you there! \n==> Learn More
URL:https://www.acadis.com/event/ifsac-2021-fall-meeting/
CATEGORIES:Conference
END:VEVENT
BEGIN:VEVENT
DTSTART;VALUE=DATE:20211020
DTEND;VALUE=DATE:20211021
DTSTAMP:20260426T000221
CREATED:20210929T200033Z
LAST-MODIFIED:20211214T185549Z
UID:2061-1634688000-1634774399@www.acadis.com
SUMMARY:Best Practices for Police Early Intervention Systems
DESCRIPTION:Join us for a live webinar on October 20 and discover how practical early intervention strategies can improve your department’s operations.
URL:https://www.acadis.com/event/best-practices-for-police-early-intervention-systems/
CATEGORIES:Webinar
END:VEVENT
BEGIN:VEVENT
DTSTART;VALUE=DATE:20211006
DTEND;VALUE=DATE:20211009
DTSTAMP:20260426T000221
CREATED:20210929T195954Z
LAST-MODIFIED:20211214T185603Z
UID:2060-1633478400-1633737599@www.acadis.com
SUMMARY:MCCA (Major Cities Chiefs Association)
DESCRIPTION:This professional organization of police executives represents the largest cities in the U.S. and Canada. Join us at the Fall Meeting in New Orleans\, LA\, for valuable and timely conversations on police happenings.
URL:https://www.acadis.com/event/mcca-major-cities-chiefs-association-2/
CATEGORIES:Conference
END:VEVENT
BEGIN:VEVENT
DTSTART;VALUE=DATE:20210920
DTEND;VALUE=DATE:20210924
DTSTAMP:20260426T000221
CREATED:20210929T195850Z
LAST-MODIFIED:20211214T185912Z
UID:2059-1632096000-1632441599@www.acadis.com
SUMMARY:NAFTD 2021 Annual Conference
DESCRIPTION:The National Association of Fire Training Directors will gather in Portland\, Oregon for the annual conference. Hope to see you there!
URL:https://www.acadis.com/event/naftd-2021-annual-conference/
CATEGORIES:Conference
END:VEVENT
BEGIN:VEVENT
DTSTART;VALUE=DATE:20210909
DTEND;VALUE=DATE:20210912
DTSTAMP:20260426T000221
CREATED:20210901T180654Z
LAST-MODIFIED:20211214T185942Z
UID:1396-1631145600-1631404799@www.acadis.com
SUMMARY:ASCIA (Association of State Criminal Investigative Agencies)
DESCRIPTION:In conjunction with the IACP Annual Conference in New Orleans\, the ASCIA Fall Conference will hold training and education sessions for members. We hope to see you there!
URL:https://www.acadis.com/event/ascia-association-of-state-criminal-investigative-agencies/
CATEGORIES:Conference
END:VEVENT
BEGIN:VEVENT
DTSTART;VALUE=DATE:20210908
DTEND;VALUE=DATE:20210911
DTSTAMP:20260426T000221
CREATED:20210901T180337Z
LAST-MODIFIED:20211214T185920Z
UID:1394-1631059200-1631318399@www.acadis.com
SUMMARY:MCCA (Major Cities Chiefs Association)
DESCRIPTION:This professional organization of police executives represents the largest cities in the U.S. and Canada. Join us at the Fall Meeting in New Orleans\, LA\, for valuable and timely conversations on police happenings.
URL:https://www.acadis.com/event/mcca-major-cities-chiefs-association/
CATEGORIES:Conference
END:VEVENT
BEGIN:VEVENT
DTSTART;VALUE=DATE:20210613
DTEND;VALUE=DATE:20210617
DTSTAMP:20260426T000221
CREATED:20210929T165430Z
LAST-MODIFIED:20211214T185956Z
UID:2051-1623542400-1623887999@www.acadis.com
SUMMARY:2021 Summer CALEA Conference  (The Commission on Accreditation for Law Enforcement Agencies\, Inc.)
DESCRIPTION:Join us online. We’d love to dialog about how we can collaborate to help you reach your goals.
URL:https://www.acadis.com/event/2021-summer-calea-conference-the-commission-on-accreditation-for-law-enforcement-agencies-inc/
LOCATION:Virtual
CATEGORIES:Virtual Conference
END:VEVENT
BEGIN:VEVENT
DTSTART;TZID=UTC:20210421T180000
DTEND;TZID=UTC:20210421T180000
DTSTAMP:20260426T000221
CREATED:20210929T170043Z
LAST-MODIFIED:20211214T185930Z
UID:2055-1619028000-1619028000@www.acadis.com
SUMMARY:Making A Dynamic Professional Development Program For Fire Leaders
DESCRIPTION:Join us April 21 at 2pm ET for this live webinar with Envisage and ISFSI members to explore how to establish a successful professional development program for fire leaders in your organization.
URL:https://www.acadis.com/event/making-a-dynamic-professional-development-program-for-fire-leaders/
CATEGORIES:Webinar
END:VEVENT
BEGIN:VEVENT
DTSTART;VALUE=DATE:20210418
DTEND;VALUE=DATE:20210422
DTSTAMP:20260426T000221
CREATED:20210929T165549Z
LAST-MODIFIED:20211214T190012Z
UID:2053-1618704000-1619049599@www.acadis.com
SUMMARY:ASCIA (Association of State Criminal Investigative Agencies)
DESCRIPTION:Join us at the 2021 Spring Conference which will be held in Coeur dAlene\, Idaho\, beginning on Sunday\, April 18th through.
URL:https://www.acadis.com/event/ascia-association-of-state-criminal-investigative-agencies-2/
CATEGORIES:Conference
END:VEVENT
END:VCALENDAR